BEGIN:VCALENDAR
VERSION:2.0
PRODID:-//MainStreet Australia - ECPv4.6.25//NONSGML v1.0//EN
CALSCALE:GREGORIAN
METHOD:PUBLISH
X-WR-CALNAME:MainStreet Australia
X-ORIGINAL-URL:https://www.mainstreetaustralia.org.au
X-WR-CALDESC:Events for MainStreet Australia
BEGIN:VEVENT
DTSTART;TZID=Australia/Melbourne:20170823T103000
DTEND;TZID=Australia/Melbourne:20170823T133000
DTSTAMP:20190228T155257
CREATED:20170816T070906Z
LAST-MODIFIED:20170816T073924Z
UID:3433-1503484200-1503495000@www.mainstreetaustralia.org.au
SUMMARY:Local Government and the Management\, Marketing\, Funding and Governance of Business Associations
DESCRIPTION:For Local government staff that have a role or interest in supporting collective approaches to the marketing and management of main streets \nIn order to better understand the purpose and role of Council and businesses in this changing business climate Mainstreet Australia is keen to support and nurture the collaborative approaches to marketing and management of main streets. We would like to invite you along to share and discuss some of the key challenges and opportunities and most importantly how we\, (Mainstreet Australia) can assist or support in terms of resources\, lobbying\, advocacy\, training etc. \nPlease email enquiries@mainstreetaustralia.org.au to secure your place. Light lunch provided. You can also suggest any agenda items or topics that you would like covered. \n
URL:https://www.mainstreetaustralia.org.au/event/local-government-management-marketing-funding-governance-business-associations/
LOCATION:Banyule Council\, 1 Flintoff street\, Greensborough\, Victoria\, 3084\, Australia
GEO:-37.7045921;145.0987813
X-APPLE-STRUCTURED-LOCATION;VALUE=URI;X-ADDRESS=Banyule Council 1 Flintoff street Greensborough Victoria 3084 Australia;X-APPLE-RADIUS=500;X-TITLE=1 Flintoff street:geo:145.0987813,-37.7045921
END:VEVENT
END:VCALENDAR