BEGIN:VCALENDAR
VERSION:2.0
PRODID:-//MainStreet Australia - ECPv4.6.25//NONSGML v1.0//EN
CALSCALE:GREGORIAN
METHOD:PUBLISH
X-WR-CALNAME:MainStreet Australia
X-ORIGINAL-URL:https://www.mainstreetaustralia.org.au
X-WR-CALDESC:Events for MainStreet Australia
BEGIN:VEVENT
DTSTART;VALUE=DATE:20170825
DTEND;VALUE=DATE:20170828
DTSTAMP:20190228T155355
CREATED:20170816T071205Z
LAST-MODIFIED:20170816T074059Z
UID:3437-1503619200-1503878399@www.mainstreetaustralia.org.au
SUMMARY:National Mainstreet Conference
DESCRIPTION:Join us for the National Mainstreet Conference in conjunction with ICTC 25 – 27 October 2017.  See Full program and Rego \n
URL:https://www.mainstreetaustralia.org.au/event/national-mainstreet-conference/
END:VEVENT
END:VCALENDAR